BEGIN:VCALENDAR
VERSION:2.0
CALSCALE:GREGORIAN
PRODID:-//MyApp//Calendar 1.0//EN
BEGIN:VEVENT
METHOD:PUBLISH
UID:42545@regionalniportaly.cz
DTSTAMP:20260422T075014Z
DTSTART;VALUE=DATE:20241123
DTEND;VALUE=DATE:20241124
SUMMARY:Světový duel vín
DESCRIPTION:Exkluzivní vína světa a vybraná vína z ČR se i letos utkají v pomyslném duelu vín\, ovšem vítěze si každý určí sám. Příležitost k tomu dostane v sobotu 23. listopadu od 10.00 do 20.00 hod. v prostorách Hotelu Amande.\nVstupné v předprodeji 1 900\,- Kč\, na místě 2 100\,- Kč.
LOCATION:Hustopeče
END:VEVENT
END:VCALENDAR