BEGIN:VCALENDAR
VERSION:2.0
CALSCALE:GREGORIAN
PRODID:-//MyApp//Calendar 1.0//EN
BEGIN:VEVENT
METHOD:PUBLISH
UID:42537@regionalniportaly.cz
DTSTAMP:20260422T070150Z
DTSTART;VALUE=DATE:20240621
DTEND;VALUE=DATE:20240622
SUMMARY:Olga Lounová
DESCRIPTION:Zpěvačka\, skladatelka a herečka Olga Lounová a její jedinečný koncert v Retro Music Clubu. Nenechte si ujít nezapomenutelné hity: Jsem optimista\, Láska se nám může stát\, Láska v housce a spoustu dalších naživo...Za mixem DJ PMC
LOCATION:Zaječí
END:VEVENT
END:VCALENDAR