BEGIN:VCALENDAR
VERSION:2.0
CALSCALE:GREGORIAN
PRODID:-//MyApp//Calendar 1.0//EN
BEGIN:VEVENT
METHOD:PUBLISH
UID:42534@regionalniportaly.cz
DTSTAMP:20260422T082004Z
DTSTART;VALUE=DATE:20240907
DTEND;VALUE=DATE:20240908
SUMMARY:Putování za burčákem po Modrých Horách
DESCRIPTION:Razítkovací místa ve všech obcích otevřena od 9:00 do 18:00 hod.. Velké Pavlovice\, Němčičky\, Bořetice\, Kobylí a Vrbice. Kochejte se pěšky či na kole krásami a zajímavostmi Modrých Hor a ochutnejte nejen výborný burčák. Oficiální start od 9:00 hod z venkovního areálu Ekocentra Trkmanka ve Velkých Pavlovicích ...&nbsp\;Jak název akce napovídá\, jedná se o putování (nejen) mezi vinohrady\, od jednoho razítkovacího místa ke druhému. Do mapky (která je součástí balíčku)&nbsp\;budete na zadní straně "sbírat" razítka a ještě k tomu na každém razítkovacím místě zdarma dostanete 0\,5 dl&nbsp\;burčáku k ochutnání. Jestli zvolíte kolo nebo chůzi\, to záleží pouze na vás\, nejde zase o tak náročný terén. Na jednotlivých razítkovacích místech se můžete občerstvit co hrdlo ráčí.Pokud budete šikovní a podaří se vám navštívit minimálně 5 razítkovacích míst\, získáte "pamětní list" \, abyste na nás nezapomněli a zase za rok si to zopakovali. Pamětní list je k vyzvednutí na starovacích místech v obcích a také v cíli do 20h.DEN KONÁNÍ AKCE -&nbsp\;sobota 7. září 2024 - venkovní areál Ekocentra Trkmanka ve Velkých PavlovicíchOFICIÁLNÍ START -&nbsp\;Velké Pavlovice - v 9:00 hodin - Ekocentrum Trkmanka V.P. (start je pohodový - relaxační - putování není na čas - je možné startovat i z kterékoli obce Modrých Hor\, kde je možné zakoupit startovací balíček\, níže jsou tyto místa uvedena)OFICIÁLNÍ CÍL -&nbsp\;Velké Pavlovice - 14:00 až 20:00 hodin - Ekocentrum Trkmanka V.P.RAZÍTKOVACÍ MÍSTA&nbsp\;otevřena od 9:00 hod. do 18:00 hod.DÉLKA doporučené trasy:pěší - cca 13 kmcyklo - cca 26 kmGASTROZÁŽITKY NA RAZÍTKOVACÍCH MÍSTECH + kontakty:...Další možnost výběru trasy po značené cyklostezce Modré Hory:&nbsp\;ZDECyklostezky v regionuPěší stezky v regionuNejoblíbenější turistické cíle v Modrých Horách_______________________________________________________________________________________KDE KOUPIT STARTOVACÍ BALÍČEKStartovací balíček můžete zakoupit v den konání akce přímo na místě oficiálního startu - v&nbsp\;areálu Ekocentra Trkmanka ve Velkých Pavlovicích nebo také&nbsp\;ve zvýhodněném předprodeji&nbsp\;- informace o rezervaci naleznete níže. Rádi vycházíme návštěvníkům vstříc\, a proto je možné zakoupit startovací balíček i v ostatních obcích Modrých Hor v den konání akce. Vyzvednout si svůj startovací balíček i v případě&nbsp\;předprodeje&nbsp\;je možné ve všech obcích v den akce již od 8:30 h\, není nutné dávat předem vědět kde si balíček vyzvednete.&nbsp\;Konkrétně jsou to všechna tyto místa:Velké Pavlovice - ofic. start/cíl areál Ekocentra Trkmanka V.P.\, dále pak na razítkovacích místech v obci:Němčičky - Vinařství ZD Němčičky - č.5Bořetice&nbsp\;- Modrohorský sklep - č.8Kobylí - Vinařství Tomčala - č.11Vrbice - Vinařství Buchtovín - č.15_______________________________________________________________________________________CO OBSAHUJE STARTOVACÍ BALÍČEK A KOLIK STOJÍ:&nbsp\;skleničkunosičku na krkmapku s trasou a kolečky pro razítkazdarma vzorek burčáku (0\,5 dl) za razítko do mapky na každém razítkovacím místěkupon na víno i jídlo v hodnotě Kč 100\,-- k uplatnění jen na razítkovacích místech a Ekocentru Trkmankalos do slosování o hodnotné ceny na nádvoří Ekocentra Trkmanka v den akce a také i na všech ostatních místech prodeje vstupenek s následným online losovánímcimbálová muzikapamětní list---------------------------------------------------------------------------Cena startovacího balíčku na startovacích&nbsp\;místech - Kč 500\,--ZVÝHODNĚNÝ PŘEDPRODEJ - Kč 450\,--:&nbsp\;ZDE(konec předprodeje vstupenek ve čtvrtek 5.9.2024 do 24:00 hod.)_______________________________________________________________________________________Na závěr putování si můžete úžít krásný doprovodný program v areálu Ekocentra Trkmanka ve V.P. od 14:00 hod. do 20:00 hod.. V 18:30 hodin proběhne slosování o hodnotné ceny\, každý kdo odevzdá mapku s minimálně 5ti razítky obdrží los\, kde uvede jméno\, příjmení a e-mail\, tak je automaticky účastníkem slosování a také získává pamětní list. Za mapku s 5ti razítky získá každý los a pamětní list i při odevzdání v ostatních obcích\, a to na razítkovacích místech\, kde se prodává vstupné. Účastník pak postupuje do online slosování.DOPROVODNÝ PROGRAM - nádvoří Ekocentra Trkmanka:Soutěž vín Modrohorská pecka 2024 / 14:00-20:00Zaperlíme v Modrých Horách / 14:00-20:00(růžový střik - marhulové frízo na ledu - burčák)Cimbálová muzika Vinica 16:00-20:00Slosování o hodnotné ceny od&nbsp\;18:30Předávání pamětních listů od 16:00-20:00!!!!!!!!!!!!!!!!!!!!!!!!!!!!!!!!!!!!!!!!!!!!!!!!!!!!!!!!!!!!!!!!!!!!!Je dobré mít staženou aplikaci Záchranka !V případě nouze na trase by se Vám\, či spoluúčastníkům mohla tato aplikace hodit. Rychlou aktivací můžete předejít případným vážnějším zdravotním komplikacím.&nbsp\;KONTAKTY NA TAXISLUŽBY:774211882\, 774211883\, 730690590\, 775144355\, 777766355\, 775022521\, 728886447\, 774588999\,602570202\, 775100155\, 602703929\, 606505333\, 602506607\, 608375027\, 776466769\, 773011773V neděli 8. září 2024 je možné využít kupony á Kč 100\,-- na nákup burčáku a vín na každém razítkovacím místě.Těšíme se na Vás.Bližší informace:David Ludín: +420 777 255 842\, Lukáš Stávek: +420 603 534 595e-mail: info@modrehory.cz\, web: www.modrehory.cz&nbsp\;
LOCATION:Velké Pavlovice
END:VEVENT
END:VCALENDAR