BEGIN:VCALENDAR
VERSION:2.0
CALSCALE:GREGORIAN
PRODID:-//MyApp//Calendar 1.0//EN
BEGIN:VEVENT
METHOD:PUBLISH
UID:42277@regionalniportaly.cz
DTSTAMP:20260424T114834Z
DTSTART;VALUE=DATE:20240512
DTEND;VALUE=DATE:20240513
SUMMARY:Arnošt Goldflam: Dámská šatna
DESCRIPTION:Komedie\, 100 min Podle zkušeností autora je dámská šatna tou nejdůležitější místností v divadle. V dámské šatně se totiž řeší vše podstatné i nepodstatné: od poměrů v divadle přes zákony hereckého řemesla až po soukromý život. V Goldflamově hře můžete do jedné takové dámské šatny zavítat a prožít se čtyřmi regionálními umělkyněmi nervózní období čekání na obsazení\, vzrušující premiéry i každodenní rutinu repríz\, ale především jejich na jednu stranu obyčejné\, ovšem na druhou stranu zcela neobyčejné životy. 
LOCATION:Boleradice
END:VEVENT
END:VCALENDAR