BEGIN:VCALENDAR
VERSION:2.0
CALSCALE:GREGORIAN
PRODID:-//MyApp//Calendar 1.0//EN
BEGIN:VEVENT
METHOD:PUBLISH
UID:41384@regionalniportaly.cz
DTSTAMP:20260422T081618Z
DTSTART;VALUE=DATE:20240916
DTEND;VALUE=DATE:20240917
SUMMARY:Tomáš Hanák – Kuba\, ráj na zemi?
DESCRIPTION:Cestopisná oneman show. Kubou nazdařbůh\, na kole a sám. Legendární ostrov ve fotografiích a svérázném vyprávění známého herce Tomáše Hanáka\, který na kole a sám najezdil po pekelných cestách přes dva tisíce kilometrů. Přijďte si poslechnout fascinující příběhy a zážitky od setkání s místními obyvateli až po objevování tajemných míst a místní kultury.
LOCATION:Hustopeče
END:VEVENT
END:VCALENDAR