BEGIN:VCALENDAR
VERSION:2.0
CALSCALE:GREGORIAN
PRODID:-//MyApp//Calendar 1.0//EN
BEGIN:VEVENT
METHOD:PUBLISH
UID:41382@regionalniportaly.cz
DTSTAMP:20260424T114553Z
DTSTART;VALUE=DATE:20240525
DTEND;VALUE=DATE:20240526
SUMMARY:Jak víla Modrovláska splnila tři přání
DESCRIPTION:Pohádkový příběh nás přenese do lesního království\, kde žijí nejenom zvířátka\, ptáčci\, ale i křehké bytosti.\nPohádka trvá cca 50 minut\, podle reakcí dětí\, inscenace zahrnuje improvizační prvky.\nPředstavení je určeno dětem od 3 do 11 let\, rodičům a pedagogům.
LOCATION:Hustopeče
END:VEVENT
END:VCALENDAR