BEGIN:VCALENDAR
VERSION:2.0
CALSCALE:GREGORIAN
PRODID:-//MyApp//Calendar 1.0//EN
BEGIN:VEVENT
METHOD:PUBLISH
UID:41379@regionalniportaly.cz
DTSTAMP:20260422T051602Z
DTSTART;VALUE=DATE:20240420
DTEND;VALUE=DATE:20240421
SUMMARY:Tarsan – muzikál o Pavlovi z Tarsu
DESCRIPTION:Představení v rámci regionální přehlídky venkovských divadelních souborů Mrštíkovo divadelní jaro 2024.\nDramatický život Pavla z Tarsu popisuje biblická kniha Skutky apoštolů. Z nadaného žáka\, který se připravuje na kariéru rabína\, se stal horlivý pronásledovatel křesťanů. Po mystickém zážitku u Damašku ovšem konvertoval ke křesťanství. Ale protože svou aktivitu i horlivost neztrácel\, stal se časem nepohodlný i svým novým souvěrcům. Svou životní dráhu dokončil v Římě v roce 67\, kde jej v muzikálu nalézáme ve vězení\, ve kterém čeká na smrt a rekapituluje svůj život.\nÚčinkují Spojené farnosti Zbraslav
LOCATION:Hustopeče
END:VEVENT
END:VCALENDAR