BEGIN:VCALENDAR
VERSION:2.0
CALSCALE:GREGORIAN
PRODID:-//MyApp//Calendar 1.0//EN
BEGIN:VEVENT
METHOD:PUBLISH
UID:41375@regionalniportaly.cz
DTSTAMP:20260422T044916Z
DTSTART;VALUE=DATE:20240419
DTEND;VALUE=DATE:20240420
SUMMARY:Expediční kamera
DESCRIPTION:14. ročník filmového festivalu s dokumenty o cestování\, dobrodružství i divoké přírodě.\nMezinárodní filmový festival Expediční kamera je největší cestovatelská a outdoorová akce v ČR. Tento unikátní projekt přinese nejlepší filmy sezóny z celého světa i novinku s Adamem Ondrou nebo nový film Mirka Haluzy z Amazonie.
LOCATION:Hustopeče
END:VEVENT
END:VCALENDAR