BEGIN:VCALENDAR
VERSION:2.0
CALSCALE:GREGORIAN
PRODID:-//MyApp//Calendar 1.0//EN
BEGIN:VEVENT
METHOD:PUBLISH
UID:41364@regionalniportaly.cz
DTSTAMP:20260422T033437Z
DTSTART;VALUE=DATE:20240416
DTEND;VALUE=DATE:20240417
SUMMARY:Člověk jako kvantový generátor
DESCRIPTION:​​​​​​​Ponořte se do fascinujícího světa kvantového vědomí s naší přednáškou Člověk jako kvantový generátor. Tento jedinečný zážitek vám nabídne možnost prozkoumat fenomenologický pohled na třicetiletý výzkum s lidmi\, kteří prodělali klinickou smrt.\nTuto přednášku vede Dalibor Stach - uznávaný spisovatel a režisér\, který se proslavil svými dokumenty Vše o životě po životě a celovečerním debutem Dimenze. Je také autorem dvanácti knih\, z nichž tři se staly bestsellery.\nBěhem této přednášky se dozvíte\, jak poznatky rozšířeného vědomí převést do běžného života. Tento pohled vám nabídne nový způsob\, jak se dívat na svět a své místo v něm.\n 
LOCATION:Hustopeče
END:VEVENT
END:VCALENDAR