BEGIN:VCALENDAR
VERSION:2.0
CALSCALE:GREGORIAN
PRODID:-//MyApp//Calendar 1.0//EN
BEGIN:VEVENT
METHOD:PUBLISH
UID:41361@regionalniportaly.cz
DTSTAMP:20260422T033223Z
DTSTART;VALUE=DATE:20240409
DTEND;VALUE=DATE:20240410
SUMMARY:LiStOVáNí.cz: Stop
DESCRIPTION:Tomáš Poláček podnikl v létě roku 2015 bláznivou výpravu. Stopnul 250 aut povětšinou nevalné úrovně\, aby se dostal přes Sibiř\, Aljašku\, nebezpečnou Střední Ameriku nebo peruánskou poušť až do střediska Ushuaia v Ohňové zemi - nejjižnějšího města světa. Se svou dramatickou knihou se vydává teď na jinou cestu\, na turné s projektem LiStOVáNí.\nÚčinkují: Alan Novotný a Jiří Ressler a Tomáš Poláček
LOCATION:Hustopeče
END:VEVENT
END:VCALENDAR