BEGIN:VCALENDAR
VERSION:2.0
CALSCALE:GREGORIAN
PRODID:-//MyApp//Calendar 1.0//EN
BEGIN:VEVENT
METHOD:PUBLISH
UID:41248@regionalniportaly.cz
DTSTAMP:20260424T115406Z
DTSTART;VALUE=DATE:20240518
DTEND;VALUE=DATE:20240519
SUMMARY:Modrohorská pecka
DESCRIPTION:Svazek obcí Modré Hory vás srdečně zve na IX. ročník terroir soutěž vín tradičních odrůd mikroregionu Modré Hory s názvem Modrohorská pecka od 14:00 hod. do 19:00 hod. na nádvoří Ekocentra Trkmanka ve Velkých Pavlovicích\, vyhlášení vítězů v 15:30 hod.. Dále pak se představí také Festival vinařů VOC Modré hory.&nbsp\;&nbsp\;Bezmála třista vzorků vín z mikroregionu Modrých Hor se utkají v IX. ročníku terroir soutěže vín Modrohorská pecka v sobotu 18. května 2024 a 7. září 2024. Představena budou vína tradičních odrůd celého mikroregionu Modrých Hor - z Velkých Pavlovicích\, Bořetic\, Němčiček\, Vrbice a Kobylí. Vína budou ohodnocena certifikovanými degustátory i odborníky z řad vinařů\, technologů a znalců vína.&nbsp\;&nbsp\;Podruhé bude moci ochutnat tato vína v září na oblíbené akci: Krajem vína - Putování za burčákem po Modrých Horách 7.9.2024 tentokrát také na nádvoří Ekocentra Trkmanka ve Velkých Pavlovicích.&nbsp\;Festival vinařů VOC Modré hory&nbsp\;Festival bude mít formu pikniku v mikroregionu Modré Hory\, kde se potkají návštěvníci jak z odborné\, tak i z laické veřejnosti.&nbsp\;Díky uvolněné atmosféře a přítomnosti všech vinařů\, kteří jsou členy VOC MH\, budou mít všichni jedinečnou možnost jednak:-Předat detailní informace o výrobních postupech každého vína\, které bude prezentováno- Návštěvníci z řad odborné veřejnosti se můžou dozvědět o více o systému VOC MH a jejich výhodách\, které můžou aplikovat i v jejich vinařstvích či gastro podnicích- Návštěvníci z řad laické veřejnosti budou mít možnost osobně potkat výrobce VOC vín\, navázat obchodní vztahy a také získají reálnou představu o tom co obnáší vyrábět vína s certifikací VOC.&nbsp\;CENA VSTUPENKY NA MÍSTĚcena vstupenky na místě - 1 osoba/400 Kčsamostatné kupony v hodnotě 20 Kč / degustační vzorek&nbsp\;VSTUPENKA ZAHRNUJEvolnou degustaci všech vystavených vzorků vínskleničku s logem Modré Horykatalog výstavyMÍSTO VÝSTAVYNádvoří Ekocentra Trkmanka Velké Pavlovice - Nádražní 1/1\, Velké Pavlovicezačátek v 14:00 hodin / konec akce v 19:00 hodin&nbsp\;PROGRAMk tanci i poslechu zahraje cimbálová muzika Vinica Velké Pavlovice od 15:00 hod. do 19:00 hod..předávání plaket oceněným TOP 30 vínům v 15:30 hod..MÁJOVÉ PUTOVÁNÍ OKOLÍM MODRÝCH HOR 2024 - podrobné informace zde&nbsp\;Těšíme se na Vás !&nbsp\;
LOCATION:Velké Pavlovice
END:VEVENT
END:VCALENDAR