BEGIN:VCALENDAR
VERSION:2.0
CALSCALE:GREGORIAN
PRODID:-//MyApp//Calendar 1.0//EN
BEGIN:VEVENT
METHOD:PUBLISH
UID:41148@regionalniportaly.cz
DTSTAMP:20260422T035704Z
DTSTART;VALUE=DATE:20240407
DTEND;VALUE=DATE:20240408
SUMMARY:Premiéra divadelní hry A. Goldflama Dámská šatna
DESCRIPTION:Dámská šatna - Divadelní spolek bratří Mrštíků BoleradiceKomedie\, 100 min včetně 20 minutové přestávky Podle zkušeností autora je dámská šatna tou nejdůležitější místností v divadle. V dámské šatně se totiž řeší vše podstatné i nepodstatné: od poměrů v divadle přes zákony hereckého řemesla až po soukromý život. V Goldflamově hře můžete do jedné takové dámské šatny zavítat a prožít se čtyřmi regionálními umělkyněmi nervózní období čekání na obsazení\, vzrušující premiéry i každodenní rutinu repríz\, ale především jejich na jednu stranu obyčejné\, ovšem na druhou stranu zcela neobyčejné životy. Dámskou šatnu v případě naší inscenace v režii Ivy Kahounové sdílejí Věra Pešáková\, Hana Samsonová\, Štěpánka Veselá a Magdaléna Klímová. Aby režisérka vyhověla touze dalších žen (i svojí vlastní) zahrát si\, připravila Dámskou šatnu ještě ve druhém obsazení\, které tvoří Iva Kahounová\, Jana Nečasová\, Šárka Soukopová a Julie Stehlíková. Herečky se mohou různě střídat\, takže divák bude mít možnost zhlédnout pokaždé jiné obsazení a také tak trochu jiné představení.
LOCATION:Boleradice
END:VEVENT
END:VCALENDAR