BEGIN:VCALENDAR
VERSION:2.0
CALSCALE:GREGORIAN
PRODID:-//MyApp//Calendar 1.0//EN
BEGIN:VEVENT
METHOD:PUBLISH
UID:40686@regionalniportaly.cz
DTSTAMP:20260422T051259Z
DTSTART;VALUE=DATE:20240427
DTEND;VALUE=DATE:20240428
SUMMARY:DJ Boris DISCO - Velké Bílovice
DESCRIPTION:Legendární akce DJ Boris&nbsp\;&nbsp\;poprvé v Kulturním domě Velké Bílovice&nbsp\;Koná se v sobotu 27. dubna 2024 od 20:00 hod.&nbsp\;Po celou noc hity současné i minulé v originálních verzích\, které zaručeně znáte a které Vám jinde nezahrají&nbsp\;Hudba různých žánrů - DISCO\, POP\, ROCK\, ČESKÉ a SLOVENSKÉ\, OSMDESÁTKY\, DEVADESÁTKY\, OLDIES...Zajištěno bohaté občerstvení včetně točeného piva a míchaných drinků.Kvalitní zvuk a světla\, laser show.Na Vaši bezpečnost bude dohlížet profesionální security služba.Otevřeno od 20:00 hod.Minimální věkový limit pro vstup: 16 let
LOCATION:Velké Bílovice
END:VEVENT
END:VCALENDAR