BEGIN:VCALENDAR
VERSION:2.0
CALSCALE:GREGORIAN
PRODID:-//MyApp//Calendar 1.0//EN
BEGIN:VEVENT
METHOD:PUBLISH
UID:40365@regionalniportaly.cz
DTSTAMP:20260422T051934Z
DTSTART;VALUE=DATE:20240420
DTEND;VALUE=DATE:20240421
SUMMARY:Otevřené sklepy
DESCRIPTION:Přijďte putovat ze sklípku do sklípku a užívat si krásy naší malé vesničky. Bavte se\, veselte se a buďte rádi na světě!&nbsp\;Vinaři\, vinohrady a sklepy jsou svým vlastním svébytným světem. Světem\, který vás uvítá svou pohostinností. Vinař tak otevírá nejen sklep\, ale i své vinařské srdce a nabídne vám nové zážitky a především skleničku dobrého vína.Tož přijďte ochutnat\, pobavit se a poznat naše vinaře a výsledky našeho celoročního snažení. To vše v&nbsp\;unikátní atmosféře starých vesnických sklípků…Za jednotné vstupné získáte možnost neomezené konzumace v našich sklípcích\, skleničku\, mapku obce a kupón v hodnotě 150\,- na nákup vína u našich vinařů. Připravena je i tradiční soutěž pro všechny odvážné pijany...
LOCATION:Velké Němčice
END:VEVENT
END:VCALENDAR