BEGIN:VCALENDAR
VERSION:2.0
CALSCALE:GREGORIAN
PRODID:-//MyApp//Calendar 1.0//EN
BEGIN:VEVENT
METHOD:PUBLISH
UID:39907@regionalniportaly.cz
DTSTAMP:20260424T114530Z
DTSTART;VALUE=DATE:20240502
DTEND;VALUE=DATE:20240503
SUMMARY:Sirény na cestách
DESCRIPTION:Neotřelý smysl pro humor a vzájemná chuť si ze sebe utahovat vás shodí ze sedadel.Pořad je plný šťavnatých vyprávění a historek ze zákulisí natáčení a divadelního světa. To vše prošpikováno šansony a písněmi z muzikálů tvoří dokonalý program\, na který budete dlouho vzpomínat s úsměvem na tváři.
LOCATION:Hustopeče
END:VEVENT
END:VCALENDAR