BEGIN:VCALENDAR
VERSION:2.0
CALSCALE:GREGORIAN
PRODID:-//MyApp//Calendar 1.0//EN
BEGIN:VEVENT
METHOD:PUBLISH
UID:39644@regionalniportaly.cz
DTSTAMP:20260422T033111Z
DTSTART;VALUE=DATE:20240322
DTEND;VALUE=DATE:20240323
SUMMARY:DJ Boris DISCO 18+ - Hustopeče
DESCRIPTION:Legendární akce DJ Boris&nbsp\;&nbsp\;poprvé v Hustopečích v prostorách Společenského domu\, ulice Herbenova 423/4&nbsp\;Koná se v pátek 22. března 2024 od 20:00 hod.&nbsp\;VSTUP POVOLEN POUZE STARŠÍM 18 LET!!!Po celou noc hity současné i minulé v originálních verzích\, které zaručeně znáte a které Vám jinde nezahrají&nbsp\;Hudba různých žánrů - DISCO\, POP\, ROCK\, ČESKÉ a SLOVENSKÉ\, OSMDESÁTKY\, DEVADESÁTKY\, OLDIES...Zajištěno bohaté občerstvení včetně točeného piva a míchaných drinků.Kvalitní zvuk a světla\, laser show.Otevřeno od 20:00 hod.Minimální věkový limit pro vstup: 18 let
LOCATION:Hustopeče
END:VEVENT
END:VCALENDAR