BEGIN:VCALENDAR
VERSION:2.0
CALSCALE:GREGORIAN
PRODID:-//MyApp//Calendar 1.0//EN
BEGIN:VEVENT
METHOD:PUBLISH
UID:39642@regionalniportaly.cz
DTSTAMP:20260422T035301Z
DTSTART;VALUE=DATE:20240308
DTEND;VALUE=DATE:20240309
SUMMARY:DJ Boris DISCO - KLOBOUKY u Brna
DESCRIPTION:Legendární akce DJ Boris&nbsp\;poprvé v Sokolovně KLOBOUKY u Brna&nbsp\;Koná se v pátek 8. března 2024 od 20:00 hod.&nbsp\;Po celou noc hity současné i minulé v originálních verzích\, které zaručeně znáte a které Vám jinde nezahrají&nbsp\;Hudba různých žánrů - DISCO\, POP\, ROCK\, ČESKÉ a SLOVENSKÉ\, OSMDESÁTKY\, DEVADESÁTKY\, OLDIES...Zajištěno bohaté občerstvení včetně točeného piva a míchaných drinků.Kvalitní zvuk a světla\, laser show.Otevřeno od 20:00 hod.Minimální věkový limit pro vstup: 16 let
LOCATION:Klobouky u Brna
END:VEVENT
END:VCALENDAR