BEGIN:VCALENDAR
VERSION:2.0
CALSCALE:GREGORIAN
PRODID:-//MyApp//Calendar 1.0//EN
BEGIN:VEVENT
METHOD:PUBLISH
UID:39501@regionalniportaly.cz
DTSTAMP:20260422T035231Z
DTSTART;VALUE=DATE:20240406
DTEND;VALUE=DATE:20240407
SUMMARY:Ben Cristovao
DESCRIPTION:Zpěvák\, textař\, herec a profesionální jiu jitsu fighter BEN CRISTOVAO vystoupí s jeho strhující show v Retro Clubu\, pojďte si ho užít s námi!&nbsp\;Za mixem DJ STYX
LOCATION:Zaječí
END:VEVENT
END:VCALENDAR