BEGIN:VCALENDAR
VERSION:2.0
CALSCALE:GREGORIAN
PRODID:-//MyApp//Calendar 1.0//EN
BEGIN:VEVENT
METHOD:PUBLISH
UID:39451@regionalniportaly.cz
DTSTAMP:20260424T120607Z
DTSTART;VALUE=DATE:20240523
DTEND;VALUE=DATE:20240524
SUMMARY:Ani o den dýl
DESCRIPTION:Bláznivá divadelní komedie. Vstupné 350 Kč.\n \nPotřebujete se zbavit přehnaně milující přítelkyně? Nastěhujte si do bytu svého nejlepšího kamaráda!\nHra Ani o den dýl šikovně převrací klasické prvky komiky a odtud pramení její osvěžující originalita. Je tak ztřeštěná\, jak se na francouzskou komedii sluší a patří.\n \nÚčinkují: Tomáš Sagher\, Ondřej Halámek\, Lucie Bergerová a Ladislav Kolář.\n \nPředstavení zaštiťuje Malé divadlo Komedie.\nDélka 120 minut s přestávkou.
LOCATION:Hustopeče
END:VEVENT
END:VCALENDAR