BEGIN:VCALENDAR
VERSION:2.0
CALSCALE:GREGORIAN
PRODID:-//MyApp//Calendar 1.0//EN
BEGIN:VEVENT
METHOD:PUBLISH
UID:39449@regionalniportaly.cz
DTSTAMP:20260422T035112Z
DTSTART;VALUE=DATE:20240215
DTEND;VALUE=DATE:20240228
SUMMARY:Promítání v Kině Hustopeče
DESCRIPTION:Aktuální promítání v Kině Hustopeče.
LOCATION:Hustopeče
END:VEVENT
END:VCALENDAR