BEGIN:VCALENDAR
VERSION:2.0
CALSCALE:GREGORIAN
PRODID:-//MyApp//Calendar 1.0//EN
BEGIN:VEVENT
METHOD:PUBLISH
UID:39284@regionalniportaly.cz
DTSTAMP:20260424T114521Z
DTSTART;VALUE=DATE:20240608
DTEND;VALUE=DATE:20240609
SUMMARY:Letní otevřené sklepy Brumovice 2024
DESCRIPTION:Brumovští vinaři Vás zvou na Letní otevřené sklepy\, které se konají 8. června od 11 do 19 hodin.\nNásledující den od 9 do 12 hodin budou vinaři k dispozici ve svých sklepech pro prodej vín.\n \nNaše vinařství jsou rozložena po celé obci\, narazit můžete na poválečné sklepy\, tradiční kvelbené sklepy nebo standardní výrobny.\nVinaři Vám nabídnou svá osobitá vína typická pro oblast tzv. Modrých hor a Kloboucka.\nNa co se můžete těšit?\n\nOsobitý přístup vinařů\nVětší autenticita malovinařů - narazíte na malovinařské technologie\, přírodní vína\, oranžová vína nebo frizzante\nBrumovští vinaři nabídnou různorodé výrobní prostory - tradiční kopané sklepy\, výrobny ve dvoře\n\nInformace o ubytování v Brumovicích a blízkém okolí:\nhttps://www.vinaribrumovice.cz/ubytovani/\nJak se k nám dostat?\nhttps://www.vinaribrumovice.cz/cesta-do-brumovic/\nPodívejte se\, jak vypadaly loňské podzimní otevřené sklepy -https://www.vinaribrumovice.cz/hodnoceni-podzimnich-sklepu-2023/\n \nVstupné:\n\nZlevněná vstupenka z předprodeje = 600 Kč\n\nDostupná do 2. června (včetně)\nOd 3.června do začátku akce bude možné stále koupit lístky online\, ale za standardní cenu\nNávštěvník má jistou účast\nV předprodeji je 200 vstupenek.\n\n\nVstupenka na místě = 700 KčCelková kapacita akce je omezena za 300 účastníků.\n\nZákladní vstupenka zahrnuje:\n\nVstup do vybraných vinařství\nDegustaci vín ve sklepích\nMalé občerstvení typicky pečivo a sýry k neutralizaci chuti\nSkleničku s logem\nMapka s umístěnými sklepy a občerstvením\nSeznam vín nabízených v otevřených vinařstvích\nDva kupóny v celkové hodnotě 200 Kč na nákup vín/občerstvení\n\nPředprodej navíc zaručuje účast na akci\, kapacita je omezena.
LOCATION:Brumovice
END:VEVENT
END:VCALENDAR