BEGIN:VCALENDAR
VERSION:2.0
CALSCALE:GREGORIAN
PRODID:-//MyApp//Calendar 1.0//EN
BEGIN:VEVENT
METHOD:PUBLISH
UID:39254@regionalniportaly.cz
DTSTAMP:20260422T034157Z
DTSTART;VALUE=DATE:20240308
DTEND;VALUE=DATE:20240309
SUMMARY:VERONA
DESCRIPTION:Legendární skupina VERONA vystoupí se svoji strhující show v Retro Clubu. Pojďte si užít jejich skvělé hity "Náhodou"\, "Nejsi sám"\, "Ztracená bloudí" a spoustu dalších živě!&nbsp\;Za mixem DJ LEEMACOnline rezervace stolů:&nbsp\;https://bit.ly/2BRo3Op
LOCATION:Zaječí
END:VEVENT
END:VCALENDAR