BEGIN:VCALENDAR
VERSION:2.0
CALSCALE:GREGORIAN
PRODID:-//MyApp//Calendar 1.0//EN
BEGIN:VEVENT
METHOD:PUBLISH
UID:38877@regionalniportaly.cz
DTSTAMP:20260422T035404Z
DTSTART;VALUE=DATE:20240227
DTEND;VALUE=DATE:20240228
SUMMARY:Cestovatelský večer s Lucií Kutrovou a Pavlem Sabelou
DESCRIPTION:V první přednášce účastníci vyrazí s Lucií na Stezku Českem. Na cestu s ní vyráží její nerozlučný čtyřnohý parťák Marvel. Připojí se k nim spousta zajímavých jedinců\, kteří hory milují\, ale i ti\, co chození po horách nevyhledávají\, ba dokonce možná i nesnáší. Kdo všechno vyráží na Stezku Českem?\nDruhá přednáška bude věnována cestovatelskému stand-upu Lucie Kutrové a Pavla Sabela. Kdo chtěl někdy vyrazit na dálkový trek? Pacifická hřebenovka\, Continental Divide trail\, Tour du Mont Blanc nebo nějaké evropské traily? Co bude potřeba? Jaké důležité věci si zabalit poradí Pavel a jaké nesmysly si nezapomenout\, to doporučí Lůca. Výhody a nevýhody cestování s malým batůžkem? Úskalí a srandovní příhody s batohem jako kráva? Jaký vybrat spacák? Jaké si vzít boty? Batoh? Stan? Zbytečnosti? Účastníky čekají dva různé přístupy k dálkovým trasám a dva různé pohledy na balení. Rozhodně se pobaví\, protože Lůca a Pavel mají stejný smysl pro humor a nejdou pro vtípek daleko.
LOCATION:Hustopeče
END:VEVENT
END:VCALENDAR