BEGIN:VCALENDAR
VERSION:2.0
CALSCALE:GREGORIAN
PRODID:-//MyApp//Calendar 1.0//EN
BEGIN:VEVENT
METHOD:PUBLISH
UID:38876@regionalniportaly.cz
DTSTAMP:20260422T032551Z
DTSTART;VALUE=DATE:20240225
DTEND;VALUE=DATE:20240226
SUMMARY:Černoušek Bum-ti
DESCRIPTION:Příběh černouška\, který hledá vodu a bubínek.Na cestě potkává Opici\, Žirafu\, Lva a Hada.\nV představení jsou velké loutky a krásné písničky.\nPohádka trvá 45 minut a účinkuje Pohádkové divadlo.\nVstupné 150 Kč.
LOCATION:Hustopeče
END:VEVENT
END:VCALENDAR