BEGIN:VCALENDAR
VERSION:2.0
CALSCALE:GREGORIAN
PRODID:-//MyApp//Calendar 1.0//EN
BEGIN:VEVENT
METHOD:PUBLISH
UID:38875@regionalniportaly.cz
DTSTAMP:20260422T034953Z
DTSTART;VALUE=DATE:20240224
DTEND;VALUE=DATE:20240225
SUMMARY:LiStOVáNí: Literární hysterie
DESCRIPTION:Ve škole nás naučili\, že Babičku napsala Božena Němcová. Aktivnější učitelé pro zajímavost dodali\, že to byla pěkná rajda\, tedy Božena\, nikoliv Babička. Literární hysterie své hrdiny zbavuje nálepek a popisuje jejich životy tak\, jak skutečně proběhly. Plus mínus.\nÚčinkují Karolína Zoe Meixnerová a Pavel Oubram.\n \nVstupné 150 Kč.
LOCATION:Hustopeče
END:VEVENT
END:VCALENDAR