BEGIN:VCALENDAR
VERSION:2.0
CALSCALE:GREGORIAN
PRODID:-//MyApp//Calendar 1.0//EN
BEGIN:VEVENT
METHOD:PUBLISH
UID:38642@regionalniportaly.cz
DTSTAMP:20260422T035213Z
DTSTART;VALUE=DATE:20240302
DTEND;VALUE=DATE:20240303
SUMMARY:Výstava vín Nosislav
DESCRIPTION:ČZS Nosislav Vás zve na Výstavu vín zahájení proběhne v 10:00 a to vyhlášením vítězů odrůd. Od 16:00 hraje cimbálová muzika\, občerstvení zajištěno. 
LOCATION:Nosislav
END:VEVENT
END:VCALENDAR