BEGIN:VCALENDAR
VERSION:2.0
CALSCALE:GREGORIAN
PRODID:-//MyApp//Calendar 1.0//EN
BEGIN:VEVENT
METHOD:PUBLISH
UID:38402@regionalniportaly.cz
DTSTAMP:20260422T020317Z
DTSTART;VALUE=DATE:20240108
DTEND;VALUE=DATE:20240117
SUMMARY:Promítání v Kině Hustopeče
DESCRIPTION:Aktuální promítání v Kině Hustopeče. 
LOCATION:Hustopeče
END:VEVENT
END:VCALENDAR