BEGIN:VCALENDAR
VERSION:2.0
CALSCALE:GREGORIAN
PRODID:-//MyApp//Calendar 1.0//EN
BEGIN:VEVENT
METHOD:PUBLISH
UID:38222@regionalniportaly.cz
DTSTAMP:20260422T014000Z
DTSTART;VALUE=DATE:20240113
DTEND;VALUE=DATE:20240114
SUMMARY:Královský košt Hustopeče
DESCRIPTION:Velká pultová degustace nejlepších vín soutěže KRÁL VÍN České republiky 2023. Všechna prezentovaná vína získala medaile v jedné z největších soutěží v ČR.\n \nVstupné již od 500 Kč\n \nV předprodeji stojí vstupenka pro 1 osobu 500 Kč\nNa místě stojí vstupenka pro 1 osobu 800 Kč\n \nVelmi výhodný balíček 2 vstupenky s ubytováním pro 2 osoby v DBL\, se snídaní a 90 minutami v Saunovém světě - koupíte přímo na webu hotelu.\n \n!!!PŘEDPRODEJ ZVÝHODNĚNÝCH VSTUPENEK KONČÍ NEJPOZDĚJI 3 TÝDNY PŘED AKCÍ\, NEBO PŘI VYČERPÁNÍ KVÓTY!!!\n \nV ceně vstupného:\nNeomezená degustacee-kniha KRÁL VÍN České republiky 2023e-KatalogVodaLosování tomboly o věcné cenySkleničku vám zapůjčíme za zálohu 100 Kč
LOCATION:Hustopeče
END:VEVENT
END:VCALENDAR