BEGIN:VCALENDAR
VERSION:2.0
CALSCALE:GREGORIAN
PRODID:-//MyApp//Calendar 1.0//EN
BEGIN:VEVENT
METHOD:PUBLISH
UID:37951@regionalniportaly.cz
DTSTAMP:20260422T020633Z
DTSTART;VALUE=DATE:20231221
DTEND;VALUE=DATE:20231231
SUMMARY:Promítání v Kině Hustopeče
DESCRIPTION:Aktuální promítání filmů v hustopečském kině.
LOCATION:Hustopeče
END:VEVENT
END:VCALENDAR