BEGIN:VCALENDAR
VERSION:2.0
CALSCALE:GREGORIAN
PRODID:-//MyApp//Calendar 1.0//EN
BEGIN:VEVENT
METHOD:PUBLISH
UID:37568@regionalniportaly.cz
DTSTAMP:20260422T051238Z
DTSTART;VALUE=DATE:20240427
DTEND;VALUE=DATE:20240428
SUMMARY:Argema - KD Krumvíř
DESCRIPTION:Argema v Krumvíři a v plné parádě!&nbsp\;ARGEMAFenomén z jižní Moravy ve svém zlatém období první poloviny 90. let válcoval hitparády a plakát s jejich podobiznou visel v nejednom pokoji.Své rodné Uherské Hradiště a jeho čtvrť Jarošov pak natrvalo zvěčnili v hitu Jarošovský pivovar. Nebyl však jediný - všichni si jistě vzpomeneme na písně jako Tohle je ráj\, Modrý pondělí\, Milión snů. Složení kapely se několikrát obměnilo\, ze současné sestavy Argemy vydržel celých 36 let od založení až do současnosti jen srdcař Pepa Pavka.&nbsp\;MylionsNa českém hudebním nebi (nebo pekle :-)) se opět něco událo!&nbsp\;Nebyla to žádná vánoční kometa\, ale v podzimní moravské mlhovině roku 2017 se seskupilo nové těleso. Nabralo obrátky a hlavně směr od prvního představení veřejnosti 13. 12. 2017 v hudebním klubu Melodka v Brně k dalším úspěšným vystoupením po celé České republice.
LOCATION:Krumvíř
END:VEVENT
END:VCALENDAR