BEGIN:VCALENDAR
VERSION:2.0
CALSCALE:GREGORIAN
PRODID:-//MyApp//Calendar 1.0//EN
BEGIN:VEVENT
METHOD:PUBLISH
UID:37235@regionalniportaly.cz
DTSTAMP:20260422T044953Z
DTSTART;VALUE=DATE:20240421
DTEND;VALUE=DATE:20240422
SUMMARY:Kafe u Osmanyho - VYPRODÁNO
DESCRIPTION:VYPRODÁNO\n 
LOCATION:Hustopeče
END:VEVENT
END:VCALENDAR