BEGIN:VCALENDAR
VERSION:2.0
CALSCALE:GREGORIAN
PRODID:-//MyApp//Calendar 1.0//EN
BEGIN:VEVENT
METHOD:PUBLISH
UID:36929@regionalniportaly.cz
DTSTAMP:20260422T013918Z
DTSTART;VALUE=DATE:20231123
DTEND;VALUE=DATE:20231206
SUMMARY:Promítání v Kině Hustopeče
DESCRIPTION:Aktuální seznam promítaných filmů naleznete na webu kina. 
LOCATION:Hustopeče
END:VEVENT
END:VCALENDAR