BEGIN:VCALENDAR
VERSION:2.0
CALSCALE:GREGORIAN
PRODID:-//MyApp//Calendar 1.0//EN
BEGIN:VEVENT
METHOD:PUBLISH
UID:36927@regionalniportaly.cz
DTSTAMP:20260422T032239Z
DTSTART;VALUE=DATE:20240410
DTEND;VALUE=DATE:20240411
SUMMARY:Josef Zíma - 91 let
DESCRIPTION:Přijďte si zavzpomínat a zazpívat s Josefem Zímou! Obrovská herecká i hudební legenda současnosti\, držitel Thálie za celoživotní dílo.\nV hudebním pořadu zazní například písně Karla Hašlera\, Jaromíra Vejvody\, Oldřicha Nového\, ale i Hříšní lidé Města Pražského a nebude chybět ani píseň z pohádky Princezna se zlatou hvězdou.\nPořad se skládá z povídání s diváky\, vyprávění a samozřejmě zpívání.\nVstupné 220\,- Kč.
LOCATION:Hustopeče
END:VEVENT
END:VCALENDAR