BEGIN:VCALENDAR
VERSION:2.0
CALSCALE:GREGORIAN
PRODID:-//MyApp//Calendar 1.0//EN
BEGIN:VEVENT
METHOD:PUBLISH
UID:36926@regionalniportaly.cz
DTSTAMP:20260422T035547Z
DTSTART;VALUE=DATE:20240310
DTEND;VALUE=DATE:20240311
SUMMARY:Fantastická žena - VYPRODÁNO
DESCRIPTION:VYPRODÁNO
LOCATION:Hustopeče
END:VEVENT
END:VCALENDAR