BEGIN:VCALENDAR
VERSION:2.0
CALSCALE:GREGORIAN
PRODID:-//MyApp//Calendar 1.0//EN
BEGIN:VEVENT
METHOD:PUBLISH
UID:36924@regionalniportaly.cz
DTSTAMP:20260422T021623Z
DTSTART;VALUE=DATE:20231220
DTEND;VALUE=DATE:20231221
SUMMARY:LiStOVáNí Lukáše Hejlíka - Co by můj syn měl vědět o světě
DESCRIPTION:Fredrik Backman vtipně stírá všechny úzkosti a nedostatky rodičů jednadvacátého století v půvabné knize plné upřímných obav a nepodmíněných vyznání lásky\, která zasáhne srdce všech rodičů\, a to dokonce i těch budoucích\, potencionálních. Poprvé bude v LiStOVáNí účinkovat jen jeden herec - Lukáš Hejlík. Ten je stejného věku jako Fredrik Backman a má stejně starého syna.\nVstupné 150\,- Kč.
LOCATION:Hustopeče
END:VEVENT
END:VCALENDAR