BEGIN:VCALENDAR
VERSION:2.0
CALSCALE:GREGORIAN
PRODID:-//MyApp//Calendar 1.0//EN
BEGIN:VEVENT
METHOD:PUBLISH
UID:36923@regionalniportaly.cz
DTSTAMP:20260422T015700Z
DTSTART;VALUE=DATE:20231217
DTEND;VALUE=DATE:20231218
SUMMARY:Adventní koncert - Musica Dolce Vita
DESCRIPTION:Soubor Musica Dolce Vita působí na české hudební scéně od roku 2005 a má na svém kontě stovky koncertů ve všech koutech naší vlasti\, ale také v Německu\, Polsku a Litvě.\nVěnuje interpretaci hudby všech stylových období a prezentuje se širokou škálou tématických koncertů (tříkrálový\, velikonoční\, mariánský\, adventní\, vánoční atd.).\nTěšit se na něj můžete 17. 12. 2023 od 18 hodin v evangelickém kostele.
LOCATION:Hustopeče
END:VEVENT
END:VCALENDAR