BEGIN:VCALENDAR
VERSION:2.0
CALSCALE:GREGORIAN
PRODID:-//MyApp//Calendar 1.0//EN
BEGIN:VEVENT
METHOD:PUBLISH
UID:36922@regionalniportaly.cz
DTSTAMP:20260422T020842Z
DTSTART;VALUE=DATE:20231210
DTEND;VALUE=DATE:20231211
SUMMARY:Adventní koncert - Cesta světla - VYPRODÁNO
DESCRIPTION:Koncert Orchestru lidových nástrojů a dívčího sboru s vánoční tematikou v podání VUS Ondráš v neděli 10. 12. 2023 od 18 hodin v Kině Hustopeče.
LOCATION:Hustopeče
END:VEVENT
END:VCALENDAR