BEGIN:VCALENDAR
VERSION:2.0
CALSCALE:GREGORIAN
PRODID:-//MyApp//Calendar 1.0//EN
BEGIN:VEVENT
METHOD:PUBLISH
UID:36921@regionalniportaly.cz
DTSTAMP:20260422T020622Z
DTSTART;VALUE=DATE:20231208
DTEND;VALUE=DATE:20231209
SUMMARY:Nemalé pátky v kinokavárně - Silence and Joy
DESCRIPTION:Indie popová kapela Silence and Joy se snaží hrát hudbu tak\, jak z nich vychází a jak ji cítí i za cenu\, že se bude vymykat všem pravidlům a tradičnostem. Do svých písní se snaží dostat emoce\, moudrost\, vděčnost a chválu. Nástrojové obsazení kapely: kytara\, příčná flétna\, bicí\, bass synth. \nPřijďte si je poslechnout do kinokavárny v pátek 8. 12. 2023 od 19.30 hodin.\nVstupné 120\,- Kč (studenti a senioři80\,- Kč).
LOCATION:Hustopeče
END:VEVENT
END:VCALENDAR