BEGIN:VCALENDAR
VERSION:2.0
CALSCALE:GREGORIAN
PRODID:-//MyApp//Calendar 1.0//EN
BEGIN:VEVENT
METHOD:PUBLISH
UID:36580@regionalniportaly.cz
DTSTAMP:20260422T003925Z
DTSTART;VALUE=DATE:20231201
DTEND;VALUE=DATE:20231202
SUMMARY:KALI & PETER PANN | SIMA
DESCRIPTION:KALI a SIMA míří do Retro Clubu s jedinečnou show! Přijďte si užít večer plný skvělých hitů dvou nejžádanějších interpretů slovenské scény\, bude to hot!..&nbsp\;Za mixem DJ LUKE&nbsp\;Online rezervace stolů:&nbsp\;https://bit.ly/2BRo3Op&nbsp\;RETRO TAXI&nbsp\;&nbsp\;722 213 832 (až 8 lidí)&nbsp\;702 194 808 (až 7 lidí)Cesta tam i zpět\, za nejlepší price!&nbsp\;
LOCATION:Zaječí
END:VEVENT
END:VCALENDAR