BEGIN:VCALENDAR
VERSION:2.0
CALSCALE:GREGORIAN
PRODID:-//MyApp//Calendar 1.0//EN
BEGIN:VEVENT
METHOD:PUBLISH
UID:36336@regionalniportaly.cz
DTSTAMP:20260422T000629Z
DTSTART;VALUE=DATE:20231026
DTEND;VALUE=DATE:20231108
SUMMARY:Promítání v Kině Hustopeče
DESCRIPTION:Aktuální promítání v Kině Hustopeče.
LOCATION:Hustopeče
END:VEVENT
END:VCALENDAR