BEGIN:VCALENDAR
VERSION:2.0
CALSCALE:GREGORIAN
PRODID:-//MyApp//Calendar 1.0//EN
BEGIN:VEVENT
METHOD:PUBLISH
UID:36103@regionalniportaly.cz
DTSTAMP:20260422T003757Z
DTSTART;VALUE=DATE:20231020
DTEND;VALUE=DATE:20231021
SUMMARY:Majk Spirit
DESCRIPTION:Majk Spirit a Dj Grimaso míří do Retro Clubu s novu deskou PLAYLIST\, pojď si vychutnat novou hudbu a taky staré známe tracky naživo!&nbsp\;Za mixem DJ LUKE.
LOCATION:Zaječí
END:VEVENT
END:VCALENDAR