BEGIN:VCALENDAR
VERSION:2.0
CALSCALE:GREGORIAN
PRODID:-//MyApp//Calendar 1.0//EN
BEGIN:VEVENT
METHOD:PUBLISH
UID:36060@regionalniportaly.cz
DTSTAMP:20260422T022036Z
DTSTART;VALUE=DATE:20231121
DTEND;VALUE=DATE:20231122
SUMMARY:Babička v Trenkách - první repríza
DESCRIPTION:Přijede&nbsp\;babička z Londýna!Taškařice o tom\, co všechno se může stát v jednom městečku na prvního apríla roku 1928. K čemu povede záměna identit\, kanadské žertíky dospívající mládeže\, nedoslýchavost zmatené tetičky a honička s policií? A jakou roli v tom všem hrají trenky s lampasem?Dozvíte se na divadelní hře Babička v trenkách v podání brněnského Divadla Petra Cendelína.Těšíme se na Vás 21. listopadu!
LOCATION:Podivín
END:VEVENT
END:VCALENDAR