BEGIN:VCALENDAR
VERSION:2.0
CALSCALE:GREGORIAN
PRODID:-//MyApp//Calendar 1.0//EN
BEGIN:VEVENT
METHOD:PUBLISH
UID:35923@regionalniportaly.cz
DTSTAMP:20260422T041923Z
DTSTART;VALUE=DATE:20231203
DTEND;VALUE=DATE:20231204
SUMMARY:Sněhová královna - ZRUŠENO!!
DESCRIPTION:ZRUŠENO
LOCATION:Hustopeče
END:VEVENT
END:VCALENDAR