BEGIN:VCALENDAR
VERSION:2.0
CALSCALE:GREGORIAN
PRODID:-//MyApp//Calendar 1.0//EN
BEGIN:VEVENT
METHOD:PUBLISH
UID:35921@regionalniportaly.cz
DTSTAMP:20260422T020613Z
DTSTART;VALUE=DATE:20231124
DTEND;VALUE=DATE:20231125
SUMMARY:LiStOVáNí – Losos v kaluži
DESCRIPTION:Cynická Bára není typ holky\, která se ráno probudí se sexy rozcuchem\, protáhne se a na první pokus vyfotí #nomakeup selfie\, za kterou dostane 200 lajků\, než dojde do koupelny.Je spíš ten typ holky\, která se ráno bojí podívat do zrcadla\, na zůstatek účtu a do lednice. Její život se otočí vzhůru nohama\, když jí umře babička a „odejde do nebe“. Bára ale zjistí\, že smrtí nic nekončí\, naopak jí všechno začíná! Tohle bude v LiStOVáNí ryzí dámská jízda! Markéta Lukášková nebude chybět na žádném z představení\, po diskuzi si budete moci koupit jakoukoliv z třech jejích knih. \nÚčinkují: Věra Hollá\, Bára Jánová a Markéta Lukášková.\nVstupné 150\,- Kč.\nZačátek akce v 17 hodin v Kinokavárně U babičky Hanky.
LOCATION:Hustopeče
END:VEVENT
END:VCALENDAR