BEGIN:VCALENDAR
VERSION:2.0
CALSCALE:GREGORIAN
PRODID:-//MyApp//Calendar 1.0//EN
BEGIN:VEVENT
METHOD:PUBLISH
UID:35919@regionalniportaly.cz
DTSTAMP:20260422T004209Z
DTSTART;VALUE=DATE:20231013
DTEND;VALUE=DATE:20231014
SUMMARY:Nemalé pátky v kinokavárně – Duo Vojtěch Svatoš a Hanka Pregrtová
DESCRIPTION:Mladý talentovaný skladatel a producent a moderátorka Českého rozhlasu Brno\, kteří tentokrát vystoupí mimo své kapely\, aby publiku nabídli akustickou verzi popových písní a balad. Z komorního až intimního vystoupení na Vás dýchne souhra a osobitost.\nZačátek akce je v 19.30 hodin v Kinokavárně U babičky Hanky. \nVstupné 120 Kč\, studenti a senioři 80 Kč.
LOCATION:Hustopeče
END:VEVENT
END:VCALENDAR