BEGIN:VCALENDAR
VERSION:2.0
CALSCALE:GREGORIAN
PRODID:-//MyApp//Calendar 1.0//EN
BEGIN:VEVENT
METHOD:PUBLISH
UID:35503@regionalniportaly.cz
DTSTAMP:20260422T004110Z
DTSTART;VALUE=DATE:20231009
DTEND;VALUE=DATE:20231010
SUMMARY:Divadelní představení: Úvěr
DESCRIPTION:
LOCATION:Hustopeče
END:VEVENT
END:VCALENDAR