BEGIN:VCALENDAR
VERSION:2.0
CALSCALE:GREGORIAN
PRODID:-//MyApp//Calendar 1.0//EN
BEGIN:VEVENT
METHOD:PUBLISH
UID:35187@regionalniportaly.cz
DTSTAMP:20260422T004014Z
DTSTART;VALUE=DATE:20230914
DTEND;VALUE=DATE:20230927
SUMMARY:Promítání v Kině Hustopeče
DESCRIPTION:Aktuální promítání v Kině Hustopeče.
LOCATION:Hustopeče
END:VEVENT
END:VCALENDAR