BEGIN:VCALENDAR
VERSION:2.0
CALSCALE:GREGORIAN
PRODID:-//MyApp//Calendar 1.0//EN
BEGIN:VEVENT
METHOD:PUBLISH
UID:34478@regionalniportaly.cz
DTSTAMP:20260422T045500Z
DTSTART;VALUE=DATE:20240418
DTEND;VALUE=DATE:20240419
SUMMARY:Kafe u Osmanyho - VYPRODÁNO
DESCRIPTION:Osmany odhalí i to\, co mělo zůstat utajeno! A bez cenzury!Originální zábavný pořad populárního módního návrháře kubánského původu Osmanyho Laffity.\nDevadesát minut neuvěřitelných historek ze života Osmanyho Laffity\, při kterých se divák baví od první chvíle. Život Osmanyho je totiž velmi pestrý a co jiný nezažijí za celý život\, on už dávno zvládnul.\nModeruje: Eva Decastelo\nÚčinkují: Osmany Laffita\, v alternaci Barbora Mottlová nebo Martin Schreiner (finalista Česko Slovenské Superstar a účastník soutěže Tvoje tvář má známý hlas).\nVstupné 380 Kč.
LOCATION:Hustopeče
END:VEVENT
END:VCALENDAR