BEGIN:VCALENDAR
VERSION:2.0
CALSCALE:GREGORIAN
PRODID:-//MyApp//Calendar 1.0//EN
BEGIN:VEVENT
METHOD:PUBLISH
UID:34477@regionalniportaly.cz
DTSTAMP:20260422T000500Z
DTSTART;VALUE=DATE:20231022
DTEND;VALUE=DATE:20231023
SUMMARY:Divadelní představení Sylvie
DESCRIPTION:Greg a Kate - manželé ve středním věku. Děti odrostly\, odešly z domu a do partnerského vztahu se pomalu vkrádá stereotyp. Pak se objeví Sylvie! Je krásná\, mladá\, oddaná a je s ní zábava. Co udělá její příchod se zajetými manželskými kolejemi? Možná budete překvapeni.\nHrají: Ondřej Volejník/Otakar Brousek ml.\, Klára Cibulková/Miluška Bittnerová\, Anna Stropnická/Jaruška Košková\, Václav Werner Kraus.\nVstupné 380 Kč.
LOCATION:Hustopeče
END:VEVENT
END:VCALENDAR