BEGIN:VCALENDAR
VERSION:2.0
CALSCALE:GREGORIAN
PRODID:-//MyApp//Calendar 1.0//EN
BEGIN:VEVENT
METHOD:PUBLISH
UID:34476@regionalniportaly.cz
DTSTAMP:20260422T003738Z
DTSTART;VALUE=DATE:20230924
DTEND;VALUE=DATE:20230925
SUMMARY:Stand-up comedy show Silné reči
DESCRIPTION:Nová sezóna Silných Rečí je tady! Smích pokračuje\, chichot rezonuje\, vyprsknutí končí na hlavě člověka před vámi. To nej ze slovenské stand-up scény uvidíte i v Hustopečích.\nVystoupí: Michael Szatmary\, Jakub Zitron Ťapák\, Docent a Matej Adámy .\nUPOZORNĚNÍ: Vstup na show je až od 15 let.\nVstupné 380 Kč.
LOCATION:Hustopeče
END:VEVENT
END:VCALENDAR